BEGIN:VCALENDAR
VERSION:2.0
PRODID:spatie/icalendar-generator
DESCRIPTION:Veranstaltungen von Colours of Music Hattingen
X-WR-CALDESC:Veranstaltungen von Colours of Music Hattingen
REFRESH-INTERVAL;VALUE=DURATION:PT1440M
X-PUBLISHED-TTL:PT1440M
BEGIN:VTIMEZONE
TZID:Europe/Berlin
BEGIN:DAYLIGHT
DTSTART:20250330T020000Z
TZOFFSETFROM:+0100
TZOFFSETTO:+0200
END:DAYLIGHT
BEGIN:STANDARD
DTSTART:20251026T030000Z
TZOFFSETFROM:+0200
TZOFFSETTO:+0100
END:STANDARD
END:VTIMEZONE
BEGIN:VTIMEZONE
TZID:UTC
BEGIN:STANDARD
DTSTART:20250723T202701Z
TZOFFSETFROM:+0000
TZOFFSETTO:+0000
END:STANDARD
END:VTIMEZONE
BEGIN:VEVENT
UID:107-3
DTSTAMP:20260419T202701Z
SUMMARY:2. Music Lounge Hattingen
LOCATION:Bürgerzentrum Holschentor Talstraße 8  Hattingen Nordrhein-Westf
 alen 45525
ORGANIZER;CN=Patrick:MAILTO:hatchor@patrick-geselbracht.eu
DTSTART;TZID=Europe/Berlin:20250919T193000
DTEND;TZID=Europe/Berlin:20250919T203000
X-ALT-DESC;FMTTYPE=TEXT/HTML:Nach dem gelungenen Auftakt im März 2025 wird
  die neu entwickelte Music Lounge im September 2025 zum zweiten Mal eröff
 net. Unter Leitung von Andreas Gehrke und Oliver Hemke (außerdem auch Mit
 glied des Colours of Music Chor) können verschiedene Künstler*innen ihre
  Musik zu Gehör bringen. Die Colours of Music Hattingen werden hier ebenf
 alls erstmalig vor Publikum&amp;hellip\;
CATEGORIES:Auftritte
URL;VALUE=URI:https://coloursofmusichattingen.de/mc-events/2-music-lounge-h
 attingen/
METHOD:PUBLISH
END:VEVENT
END:VCALENDAR