BEGIN:VCALENDAR
VERSION:2.0
PRODID:spatie/icalendar-generator
DESCRIPTION:Veranstaltungen von Colours of Music Hattingen
X-WR-CALDESC:Veranstaltungen von Colours of Music Hattingen
REFRESH-INTERVAL;VALUE=DURATION:PT1440M
X-PUBLISHED-TTL:PT1440M
BEGIN:VTIMEZONE
TZID:Europe/Berlin
BEGIN:DAYLIGHT
DTSTART:20250330T020000Z
TZOFFSETFROM:+0100
TZOFFSETTO:+0200
END:DAYLIGHT
BEGIN:STANDARD
DTSTART:20251026T030000Z
TZOFFSETFROM:+0200
TZOFFSETTO:+0100
END:STANDARD
END:VTIMEZONE
BEGIN:VTIMEZONE
TZID:UTC
BEGIN:STANDARD
DTSTART:20250723T202842Z
TZOFFSETFROM:+0000
TZOFFSETTO:+0000
END:STANDARD
END:VTIMEZONE
BEGIN:VEVENT
UID:26-5
DTSTAMP:20260419T202842Z
SUMMARY:Generalprobe für den Auftritt am 19.09.2025
LOCATION:Bürgerzentrum Holschentor Talstraße 8  Hattingen Nordrhein-Westf
 alen 45525
ORGANIZER;CN=Patrick:MAILTO:hatchor@patrick-geselbracht.eu
DTSTART;TZID=Europe/Berlin:20250918T193000
DTEND;TZID=Europe/Berlin:20250918T210000
X-ALT-DESC;FMTTYPE=TEXT/HTML:Falls du überlegst\, erstmalig zu einer Probe
  vorbeizukommen\, ist diese Probe womöglich nicht die beste Option\, da w
 ir kurz vorm Auftritt sind. Wenn dich das nicht stört\, bist du gern denn
 och herzlich eingeladen!
CATEGORIES:Proben
URL;VALUE=URI:https://coloursofmusichattingen.de/mc-events/generalprobe-fue
 r-den-auftritt-am-19-09-2025/
METHOD:PUBLISH
END:VEVENT
END:VCALENDAR